Workbook
Name 受験区分: リスト!$A$3:$A$10

Sheet R5志願書
A1: 令和５年度福井県立学校寄宿舎指導員採用選考試験 志願書
A3: ※受験番号 | G3: ※受付番号 | K3: ※
A4: ふ り が な | I4: （２） 性 別 （任意記載） | M4: 写真欄
A5: （１） | B5: 氏 名
A6: （３） | B6: 生年月日 | D6: 昭和 平成 | E6: 年 月 日 生 | H6: (４)令和５年４月１日 における年齢 | J6: 歳 | M6: 上半身、脱帽のもの
A7: （５） | B7: 現住所 | D7: 〒 | G7: 都・道 府・県 | M7: 写真の裏全体にのりをつけること
D8: 電 話 | G8: （ ） | M8: 写真の裏に氏名を書き入れておくこと
D9: 携 帯 | M9: （たて４．５㎝×よこ３．５㎝）
A10: （６） | B10: 連絡先 | D10: 〒 | G10: 都・道 府・県
D11: 電 話 | G11: （ ）
D12: 入学年月 | F12: 卒業（修了）年月 | H12: 学 校 名 等
A13: （７） | B13: 学歴 | C13: 高等 学校 | D13: 昭・平・令 年 月 | F13: 昭・平・令 年 月 卒業・卒業見込
C14: 出身 学校 | D14: 昭・平・令 年 月 | F14: 昭・平・令 年 月 卒業・卒業見込
C15: 最終 学校 | D15: 昭・平・令 年 月 | F15: 昭・平・令 年 月 卒業・卒業見込 修了・終了見込
C16: 勤務先 | F16: 所在地 | H16: 在職期間 | K16: 職務内容
H17: 昭・平・令 ・ ・ ～ 昭･平・令 ・ ・
H18: 昭・平・令 ・ ・ ～ 昭･平・令 ・ ・
A19: （８） | B19: 職歴 | H19: 昭・平・令 ・ ・ ～ 昭･平・令 ・ ・
H20: 昭・平・令 ・ ・ ～ 昭･平・令 ・ ・
H21: 昭・平・令 ・ ・ ～ 昭･平・令 ・ ・
A22: （９） | B22: 趣味
B23: 特技
A25: （10） | B25: 志望 動機
A27: ＊ | B27: 優先 職種 | D27: 寄宿舎指導員 | F27: ・ 実習助手（農業） | I27: ＊実習助手(農業)と寄宿舎指導員の両方を受験する者のみ記入
C28: 所有する免許・資格の種類 | H28: 取得または見込年月日 | K28: 備 考
A29: （11） | B29: 免許 | H29: 昭・平・令 ・ ・
B30: 資格 | H30: 昭・平・令 ・ ・
A31: (12) | B31: 賞罰 | C31: 無 ・ 有 | E31: 年月日（西暦年で記入） | H31: 内容
B33: 私は学校教育法第９条および地方公務員法第１６条の各号に該当しておりません。また志願書の
B34: 記載事項は事実に相違なく、虚偽の記入があった場合には、採用内定が取り消される（採用後で
B35: あれば懲戒処分を受ける）ことについて了承します。
B36: 令和 年 月 日
B37: 福井県教育委員会 様
J38: 氏 名
J40: ※欄については記入する必要はありません。

Sheet 志願書見本
A1: ='R5志願書'!A1:N1 -> 令和５年度福井県立学校寄宿舎指導員採用選考試験 志願書
A3: ※受験番号 | G3: ※受付番号 | K3: ※
A4: ふ り が な | D4: ふくい たろう | I4: （２） 性 別 （任意記載） | J4: 男 | M4: 写真欄
A5: （１） | B5: 氏 名 | D5: 福井 太郎
A6: （３） | B6: 生年月日 | D6: 昭和 平成 | E6: ○年○月○日 生 | H6: ='R5志願書'!H6:I6 -> (４)令和５年４月１日 における年齢 | J6: ○○ | K6: 歳 | M6: 上半身、脱帽のもの
A7: （５） | B7: 現住所 | D7: 〒９１０－８５８０ | F7: 福井 | G7: 都・道 府・県 | H7: ○○市○○○町○丁目○番○号 | M7: 写真の裏全体にのりをつけること
D8: 電 話 | E8: ０７７６ | G8: （ ○○ ） | I8: ○○○○ | M8: 写真の裏に氏名を書き入れておくこと
D9: 携 帯 | E9: 090-○○○○-○○○○ | M9: （たて４．５㎝×よこ３．５㎝）
A10: （６） | B10: 連絡先 | D10: 〒９１０－８５８０ | F10: 福井 | G10: 都・道 府・県 | H10: ○○市○○○町○丁目○番○号
D11: 電 話 | E11: ０７７６ | G11: （ ○○ ） | I11: ○○○○
D12: 入学年月 | F12: 卒業（修了）年月 | H12: 学 校 名 等
A13: （７） | B13: 学歴 | C13: 高等 学校 | D13: 昭・平・令 ２２年 ４月 | F13: 昭・平・令 ２５年 ３月 卒業 ・ 卒業見込 | H13: ○○県立○○高等学校 卒業した高等学校・高等専門学校等を記入
C14: 出身 学校 | D14: 昭・平・令 ２５年 ４月 | F14: 昭・平・令 ２９年 ３月 卒業 ・ 卒業見込 | H14: ○○大学○○学部 専門学校、短期大学、大学以降の学校を記入
C15: 最終 学校 | D15: 昭・平・令 ２９年 ４月 | F15: 昭・平・令 ３１年 ３月 卒業 ・ 卒業見込 修了 ・ 終了見込 | H15: ○○大学大学院○○研究科 専門学校、短期大学、大学卒業後の学歴を記入
C16: 勤務先 | F16: 所在地 | H16: 在職期間 | K16: 職務内容
C17: 福井県立△△高等学校 | F17: 福井県福井市 | H17: 昭・平・令 ３・４・１ ～昭･平・令 ４・３・３１ | K17: 講師
C18: 福井県立○○高等学校 | F18: 福井県福井市 | H18: 昭・平・令 ２・４・１ ～昭・平・令 ３・３・３１ | K18: 講師
A19: （８） | B19: 職歴 | C19: 福井県立○○特別支援学校 | F19: 福井県福井市 | H19: 昭・平・令 ３１・４・１ ～昭･平・令 ２・３・３０ | K19: 寄宿舎指導員（臨時任用）
H20: 昭・平・令 ・ ・ ～ 昭･平・令 ・ ・
H21: 昭・平・令 ・ ・ ～ 昭･平・令 ・ ・
A22: （９） | B22: 趣味
B23: 特技
A24: （10） | B24: 志望
B25: 動機
A27: ='R5志願書'!A27 -> ＊ | B27: 優先職種 | D27: ='R5志願書'!D27:E27 -> 寄宿舎指導員 | F27: ='R5志願書'!F27 -> ・ 実習助手（農業） | I27: ='R5志願書'!I27:N27 -> ＊実習助手(農業)と寄宿舎指導員の両方を受験する者のみ記入
C28: 所有する免許・資格の種類 | H28: 取得または見込年月日 | K28: 備 考
A29: ='R5志願書'!A29 -> （11） | B29: 免許 | H29: 昭・平・令 ・ ・
B30: 資格 | H30: 昭・平・令 ・ ・
A31: ='R5志願書'!A31:A32 -> (12) | B31: 賞罰 | C31: 無 ・ 有 | E31: 年月日（西暦年で記入） | H31: 内容
B33: 私は学校教育法第９条および地方公務員法第１６条の各号に該当しておりません。また志願書の
B34: 記載事項は事実に相違なく、虚偽の記入があった場合には、採用内定が取り消される（採用後で
B35: あれば懲戒処分を受ける）ことについて了承します。
B36: 令和 ４ 年〇〇月○○日
C37: 福井県教育委員会 様
J38: 氏 名 福 井 太 郎
J40: ※欄については記入する必要はありません。

Sheet リスト
A2: 受験区分
A4: 寄宿舎指導員
A5: 実習助手(農業)
A6: 実習助手(商業)
A7: 実習助手(水産)
A8: 実習助手（その他）
A9: 技能労務職(船舶乗組員)

Sheet R9採用選考志願書
A1: 1 | B1: 2 | C1: 3 | D1: 4 | E1: 5 | F1: 6 | G1: 7 | H1: 8 | I1: 9 | J1: 10 | K1: 11 | L1: 12 | M1: 13 | N1: 14 | O1: 15 | P1: 16 | Q1: 17 | R1: 18 | S1: 19 | T1: 20 | U1: 21 | V1: 22 | W1: 23 | X1: 24 | Y1: 25 | Z1: 26 | AA1: 27 | AB1: 28 | AD1: ↓採用年月日をここに入力
A2: =DBCS(LEFT(AE2,FIND("年",AE2,1)))&"度福井県立学校"&V4&"採用選考試験 志願書" -> 令和９年度福井県立学校採用選考試験 志願書 | AD2: 20270401 | AE2: =TEXT(DATEVALUE(TEXT(AD2,"0000!/00!/00")),"ggge年m月d日") -> 令和9年4月1日
AD3: （手打ち） | AE3: （自動表示）
A4: ※受験番号 | J4: ※受付番号 | S4: 受験区分
A5: （１） | B5: ふりがな | P5: （２） 性 別 （任意記載） | W5: 写真欄 最近３か月以内に撮影したもの 背景無地で、上半身、脱帽、 正面向きのもの
B6: 氏 名
A7: （３） | B7: 生年月日 | D7: 西暦 | G7: 年 | J7: 月 | M7: 日 | N7: 生 | O7: =" (４)"&AE2&CHAR(10)&" における年齢" -> (４)令和9年4月1日 における年齢 | S7: =IF(COUNTA(E7,H7,K7)=3,DATEDIF(DATE(E7,TEXT(H7,"00"),TEXT(K7,"00")),DATE(LEFT(AD2,4),MID(AD2,5,2),RIGHT(AD2,2)),"Ｙ"),"(自動計算)") -> (自動計算)
A8: （５） | B8: 現住所 | D8: 郵便番号 | G8: 都道府県 | I8: 市町村 | L8: 番地等 | R8: マンション名等
D10: 携帯電話 | N10: 固定電話
D11: メールアドレス
A12: （６） | B12: 帰省先 （実家等） | D12: 郵便番号 | G12: 都道府県 | I12: 市町村 | L12: 番地等 | R12: マンション名等 | W12: ※
D14: ※ | N14: 固定電話
A15: （７） | B15: 学歴 | E15: 入学年月 | K15: 卒業（修了）年月 | Q15: 学 校 名 等
D16: 高等 学校 | E16: 西暦 | H16: 年 | J16: 月 | K16: 西暦 | N16: 年 | P16: 月 | W16: 所在地 (都道府県)
D17: 出身 学校 | E17: 西暦 | H17: 年 | J17: 月 | K17: 西暦 | N17: 年 | P17: 月 | Q17: (学校名) | T17: (学部等) | W17: (課程・学科等)
D19: 最終 学校 | E19: 西暦 | H19: 年 | J19: 月 | K19: 西暦 | N19: 年 | P19: 月 | Q19: (学校名) | T19: (学部等) | W19: (課程・学科等)
A21: （８） | B21: 職歴 直近のもの から順に、 上から記入 する | D21: 勤務先 | H21: 所在地(市町村まで) | L21: 在職期間 | W21: 職務内容
N22: 年 | P22: 月 | Q22: ～ | T22: 年 | V22: 月
N23: 年 | P23: 月 | Q23: ～ | T23: 年 | V23: 月
N24: 年 | P24: 月 | Q24: ～ | T24: 年 | V24: 月
N25: 年 | P25: 月 | Q25: ～ | T25: 年 | V25: 月
N26: 年 | P26: 月 | Q26: ～ | T26: 年 | V26: 月 | AC26: 確認用 （文字数）
A27: （９） | B27: 趣味 特技 | AC27: =LEN(D27) -> 0
A28: （10） | B28: 志望 動機 240字程度 まで
AC29: =LEN(D28) -> 0
A31: （11） | B31: 免許 | D31: 所有する免許・資格の種類 | K31: 取得または見込年月日 | U31: 備 考
K32: 西暦 | N32: 年 | P32: 月 | R32: 日
K33: 西暦 | N33: 年 | P33: 月 | R33: 日
A34: (12) | B34: 賞罰 | G34: 年月日（西暦年で記入） | O34: 内容
G35: 西暦 | J35: 年 | L35: 月 | N35: 日 | AC35: =LEN(O35) -> 0
A36: 私は学校教育法第９条、地方公務員法第１６条の各号および令和８年１２月２５日に施行予定の「学校設置者等及び民間教育保育等事業者による児童対象性暴力等の防止等の措置に関する法律」（令和６年法律第６９号）第２条第８項に該当しておりません。また、志願書の記載事項は事実に相違なく、虚偽の記入があった場合には、採用内定が取り消される（採用後であれば懲戒処分を受ける）ことについて了承します。
A37: 令和 | C37: 8 | E37: 年 | H37: 月 | K37: 日
A38: 福井県教育委員会 様
O39: 氏 名
S40: ※欄については記入する必要はありません。
J43: 西暦

Sheet 志願書の作成・送付について
A1: 1 | B1: 2 | C1: 3 | D1: 4 | E1: 5 | F1: 6 | G1: 7 | H1: 8 | I1: 9 | J1: 10 | K1: 11 | L1: 12 | M1: 13 | N1: 14 | O1: 15 | P1: 16 | Q1: 17 | R1: 18 | S1: 19 | T1: 20 | U1: 21 | V1: 22 | W1: 23 | X1: 24 | Y1: 25 | Z1: 26 | AA1: 27 | AB1: 28
A2: ='R9採用選考志願書'!A2 -> 令和９年度福井県立学校採用選考試験 志願書 | AC2: 志願書の作成・送付について
A4: ※受験番号 | J4: ※受付番号 | S4: 受験区分 | V4: 実習助手(農業)
A5: （１） | B5: ふりがな | D5: ふくい | J5: たろう | P5: （２） 性 別 （任意記載） | S5: 男 | W5: 写真欄 最近３か月以内に撮影したもの 背景無地で、上半身、脱帽、 正面向きのもの
B6: 氏 名 | D6: 福井 | J6: 太郎
A7: （３） | B7: 生年月日 | D7: 西暦 | E7: 2001 | G7: 年 | H7: 4 | J7: 月 | K7: 21 | M7: 日 | N7: 生 | O7: ='R9採用選考志願書'!O7 -> (４)令和9年4月1日 における年齢 | S7: 25
A8: （５） | B8: 現住所 | D8: 郵便番号 | G8: 都道府県 | I8: 市町村 | L8: 番地等 | R8: マンション名等
D9: 9108580 | G9: 福井県 | I9: 福井市 | L9: 大手3丁目17-1 | R9: ○○○○101号室
D10: 携帯電話 | G10: 09011112222 | N10: 固定電話 | Q10: 0776334444
D11: メールアドレス | G11: AAAA＠bbbbb.cc.jp
A12: （６） | B12: 帰省先 （実家等） | D12: 郵便番号 | G12: 都道府県 | I12: 市町村 | L12: 番地等 | R12: マンション名等 | W12: ※
D13: 9991111 | G13: ○○県 | I13: △△市 | L13: ＊＊町11番地22
D14: ※ | N14: 固定電話 | Q14: 0777889999
A15: （７） | B15: 学歴 | E15: 入学年月 | K15: 卒業（修了）年月 | Q15: 学 校 名 等
D16: 高等 学校 | E16: 西暦 | F16: 2016 | H16: 年 | I16: 4 | J16: 月 | K16: 西暦 | L16: 2019 | N16: 年 | O16: 3 | P16: 月 | Q16: ○○高等学校 | W16: 所在地 (都道府県) | Y16: 福井県
D17: 出身 学校 | E17: 西暦 | F17: 2019 | H17: 年 | I17: 4 | J17: 月 | K17: 西暦 | L17: 2023 | N17: 年 | O17: 3 | P17: 月 | Q17: (学校名) | T17: (学部等) | W17: (課程・学科等)
Q18: ○○大学 | T18: ○○学部 | W18: ○○○科
D19: 最終 学校 | E19: 西暦 | F19: 20XX | H19: 年 | I19: 4 | J19: 月 | K19: 西暦 | L19: 20XX | N19: 年 | O19: 3 | P19: 月 | Q19: (学校名) | T19: (学部等) | W19: (課程・学科等)
Q20: ○○大学 | T20: 大学院 | W20: ○○○研究科
A21: （８） | B21: 職歴 直近のもの から順に、 上から記入 する | D21: 勤務先 | H21: 所在地(市町村まで) | L21: 在職期間 | W21: 職務内容
D22: △△特別支援学校 | H22: 福井県福井市 | L22: 2024 | N22: 年 | O22: 4 | P22: 月 | Q22: ～ | T22: 年 | V22: 月 | W22: 臨時的任用職員（寄宿舎指導員）
D23: ○○高等学校 | H23: 福井県福井市 | L23: 20XX | N23: 年 | O23: 9 | P23: 月 | Q23: ～ | R23: 20XX | T23: 年 | U23: 12 | V23: 月 | W23: 非常勤講師（教科指導）
D24: 株式会社◇◇◇ | H24: 福井県坂井市 | L24: 20XX | N24: 年 | O24: 4 | P24: 月 | Q24: ～ | R24: 20XX | T24: 年 | U24: 8 | V24: 月 | W24: 正規社員（営業）
N25: 年 | P25: 月 | Q25: ～ | T25: 年 | V25: 月
N26: 年 | P26: 月 | Q26: ～ | T26: 年 | V26: 月
A27: （９） | B27: 趣味 特技 | D27: ○○○○○○○○○○○○○○○○○○○○○○○○○○○○○○○○○○○○○○○○○○○○○○○○○○○○○○○○○○○○○○○○○○○○○○
A28: （10） | B28: 志望 動機 240字程度 まで | D28: ○○○○○○○○○○○○○○○○○○○○○○○○○○○○○○○○○○○○○○○○○○○○○○○○○○○○○○○○○○○○○○○○○○○○○○○○○○○○○○○○○○○○○○○○○○○○○○○○○○○○○○○○○○○○○○○○○○○○○○○○○○○○○○○○○○○○○○○○○○○○○○○○○○○○○○○○○○○○○○○○○○○○○○○○○○○○○○○○○○○○○○○○○○○○○○○○○○○○○○○○○○○○○○○○○○○○○○○○○○○○○○○○○○○○○○○○○○○○○○○○
A31: （11） | B31: 免許 資格 | D31: 所有する免許・資格の種類 | K31: 取得または見込年月日 | U31: 備 考
K32: 西暦 | N32: 年 | P32: 月 | R32: 日
K33: 西暦 | N33: 年 | P33: 月 | R33: 日
A34: (12) | B34: 賞罰 | D34: 無 | G34: 年月日（西暦年で記入） | O34: 内容
G35: 西暦 | J35: 年 | L35: 月 | N35: 日
A36: 私は学校教育法第９条、地方公務員法第１６条の各号および令和８年１２月２５日に施行予定の「学校設置者等及び民間教育保育等事業者による児童対象性暴力等の防止等の措置に関する法律」（令和６年法律第６９号）第２条第８項に該当しておりません。また、志願書の記載事項は事実に相違なく、虚偽の記入があった場合には、採用内定が取り消される（採用後であれば懲戒処分を受ける）ことについて了承します。
A37: 令和 | C37: 8 | E37: 年 | F37: 10 | H37: 月 | I37: 4 | K37: 日
A38: 福井県教育委員会 様
O39: 氏 名 | Q39: 福井 | V39: 太郎
S40: ※欄については記入する必要はありません。
J43: 西暦

Sheet 志願者データ
A1: 志願者データ | L1: 現住所 | T1: 帰省先 | Z1: 学歴（高等学校） | AD1: 学歴（出身学校） | AI1: 学歴（最終学校） | AN1: 職歴1 | AU1: 職歴2 | BB1: 職歴3 | BI1: 職歴4 | BP1: 職歴5 | BW1: 趣味特技 | BX1: 志望動機 | BY1: 免許 １ | CE1: 免許 ２ | CK1: 賞罰
A2: 受付 番号 | B2: 面接整理番号 | C2: 受験 番号 | D2: 受験区分 | E2: 姓 | F2: 名 | G2: 姓（かな） | H2: 名（かな） | I2: 性別 | J2: 生年月日 | K2: 20240401時点の年齢 | L2: 郵便番号 | M2: 都道府県 | N2: 市町村 | O2: 番地等 | P2: マンション名等 | Q2: 携帯電話 | R2: 固定電話 | S2: メールアドレス | T2: 郵便番号 | U2: 都道府県 | V2: 市町村 | W2: 番地等 | X2: マンション名等 | Y2: 固定電話 | Z2: 入学年月 | AA2: 卒業（修了）年月 | AB2: 学校名等 | AC2: 所在地 | AD2: 入学年月 | AE2: 卒業（修了）年月 | AF2: 学校名等 | AI2: 入学年月 | AJ2: 卒業（修了）年月 | AK2: 学校名等 | AN2: 勤務先1 | AO2: 所在地1 | AP2: 在職期間1 | AT2: 職務内容1 | AU2: 勤務先2 | AV2: 所在地2 | AW2: 在職期間2 | BA2: 職務内容2 | BB2: 勤務先3 | BC2: 所在地3 | BD2: 在職期間3 | BH2: 職務内容3 | BI2: 勤務先4 | BJ2: 所在地4 | BK2: 在職期間4 | BO2: 職務内容4 | BP2: 勤務先5 | BQ2: 所在地5 | BR2: 在職期間5 | BV2: 職務内容5 | BW2: 趣味特技 | BX2: 志望動機 | BY2: 所有する免許・資格の種類1 | BZ2: 取得または見込年月日1 | CC2: 取得状況1 | CD2: 備考1 | CE2: 所有する免許・資格の種類2 | CF2: 取得または見込年月日2 | CI2: 取得状況2 | CJ2: 備考2 | CK2: 賞罰（有無） | CL2: 賞罰（年月日） | CO2: 賞罰（内容） | CR2: 了承年月日 | CU2: 姓 | CV2: 名
D3: ='R9採用選考志願書'!$V$4 -> 0 | E3: ='R9採用選考志願書'!$D$6 -> 0 | F3: ='R9採用選考志願書'!$J$6 -> 0 | G3: ='R9採用選考志願書'!$D$5 -> 0 | H3: ='R9採用選考志願書'!$J$5 -> 0 | I3: ='R9採用選考志願書'!$S$5 -> 0 | J3: ='R9採用選考志願書'!$E$7&TEXT('R9採用選考志願書'!$H$7,"00")&TEXT('R9採用選考志願書'!$K$7,"00") -> 0000 | K3: ='R9採用選考志願書'!$S$7 -> (自動計算) | L3: ='R9採用選考志願書'!$D$9 -> 0 | M3: ='R9採用選考志願書'!$G$9 -> 0 | N3: ='R9採用選考志願書'!$I$9 -> 0 | O3: ='R9採用選考志願書'!$L$9 -> 0 | P3: ='R9採用選考志願書'!$R$9 -> 0 | Q3: ='R9採用選考志願書'!$G$10 -> 0 | R3: ='R9採用選考志願書'!$Q$10 -> 0 | S3: ='R9採用選考志願書'!$G$11 -> 0 | T3: ='R9採用選考志願書'!$D$13 -> 0 | U3: ='R9採用選考志願書'!$G$13 -> 0 | V3: ='R9採用選考志願書'!$I$13 -> 0 | W3: ='R9採用選考志願書'!$L$13 -> 0 | X3: ='R9採用選考志願書'!$R$13 -> 0 | Y3: ='R9採用選考志願書'!$Q$14 -> 0 | Z3: ='R9採用選考志願書'!$F$16&TEXT('R9採用選考志願書'!$I$16,"00") -> 00 | AA3: ='R9採用選考志願書'!$L$16&TEXT('R9採用選考志願書'!$O$16,"00") -> 00 | AB3: ='R9採用選考志願書'!$Q$16 -> 0 | AC3: ='R9採用選考志願書'!$Y$16 -> 0 | AD3: ='R9採用選考志願書'!$F$17&TEXT('R9採用選考志願書'!$I$17,"00") -> 00 | AE3: ='R9採用選考志願書'!$L$17&TEXT('R9採用選考志願書'!$O$17,"00") -> 00 | AF3: ='R9採用選考志願書'!$Q$18 -> 0 | AG3: ='R9採用選考志願書'!$T$18 -> 0 | AH3: ='R9採用選考志願書'!$W$18 -> 0 | AI3: ='R9採用選考志願書'!$F$19&TEXT('R9採用選考志願書'!$I$19,"00") -> 00 | AJ3: ='R9採用選考志願書'!$L$19&TEXT('R9採用選考志願書'!$O$19,"00") -> 00 | AK3: ='R9採用選考志願書'!$Q$20 -> 0 | AL3: ='R9採用選考志願書'!$T$20 -> 0 | AM3: ='R9採用選考志願書'!$W$20 -> 0 | AN3: ='R9採用選考志願書'!$D$22 -> 0 | AO3: ='R9採用選考志願書'!$H$22 -> 0 | AP3: ='R9採用選考志願書'!$L$22 -> 0 | AQ3: ='R9採用選考志願書'!$O$22 -> 0 | AR3: ='R9採用選考志願書'!$R$22 -> 0 | AS3: ='R9採用選考志願書'!$U$22 -> 0 | AT3: ='R9採用選考志願書'!$W$22 -> 0 | AU3: ='R9採用選考志願書'!$D$23 -> 0 | AV3: ='R9採用選考志願書'!$H$23 -> 0 | AW3: ='R9採用選考志願書'!$L$23 -> 0 | AX3: ='R9採用選考志願書'!$O$23 -> 0 | AY3: ='R9採用選考志願書'!$R$23 -> 0 | AZ3: ='R9採用選考志願書'!$U$23 -> 0 | BA3: ='R9採用選考志願書'!$W$23 -> 0 | BB3: ='R9採用選考志願書'!$D$24 -> 0 | BC3: ='R9採用選考志願書'!$H$24 -> 0 | BD3: ='R9採用選考志願書'!$L$24 -> 0 | BE3: ='R9採用選考志願書'!$O$24 -> 0 | BF3: ='R9採用選考志願書'!$R$24 -> 0 | BG3: ='R9採用選考志願書'!$U$24 -> 0 | BH3: ='R9採用選考志願書'!$W$24 -> 0 | BI3: ='R9採用選考志願書'!$D$25 -> 0 | BJ3: ='R9採用選考志願書'!$H$25 -> 0 | BK3: ='R9採用選考志願書'!$L$25 -> 0 | BL3: ='R9採用選考志願書'!$O$25 -> 0 | BM3: ='R9採用選考志願書'!$R$25 -> 0 | BN3: ='R9採用選考志願書'!$U$25 -> 0 | BO3: ='R9採用選考志願書'!$W$25 -> 0 | BP3: ='R9採用選考志願書'!$D$26 -> 0 | BQ3: ='R9採用選考志願書'!$H$26 -> 0 | BR3: ='R9採用選考志願書'!$L$26 -> 0 | BS3: ='R9採用選考志願書'!$O$26 -> 0 | BT3: ='R9採用選考志願書'!$R$26 -> 0 | BU3: ='R9採用選考志願書'!$U$26 -> 0 | BV3: ='R9採用選考志願書'!$W$26 -> 0 | BW3: ='R9採用選考志願書'!$D$27 -> 0 | BX3: ='R9採用選考志願書'!$D$28 -> 0 | BY3: ='R9採用選考志願書'!$D$32 -> 0 | BZ3: ='R9採用選考志願書'!$L$32 -> 0 | CA3: ='R9採用選考志願書'!$O$32 -> 0 | CB3: ='R9採用選考志願書'!$Q$32 -> 0 | CC3: ='R9採用選考志願書'!$S$32 -> 0 | CD3: ='R9採用選考志願書'!$U$32 -> 0 | CE3: ='R9採用選考志願書'!$D$33 -> 0 | CF3: ='R9採用選考志願書'!$L$33 -> 0 | CG3: ='R9採用選考志願書'!$O$33 -> 0 | CH3: ='R9採用選考志願書'!$Q$33 -> 0 | CI3: ='R9採用選考志願書'!$S$33 -> 0 | CJ3: ='R9採用選考志願書'!$U$33 -> 0 | CK3: ='R9採用選考志願書'!$D$34 -> 0 | CL3: ='R9採用選考志願書'!$H$35 -> 0 | CM3: ='R9採用選考志願書'!$K$35 -> 0 | CN3: ='R9採用選考志願書'!$M$35 -> 0 | CO3: ='R9採用選考志願書'!$O$35 -> 0 | CR3: ='R9採用選考志願書'!$C$37 -> 8 | CS3: ='R9採用選考志願書'!$F$37 -> 0 | CT3: ='R9採用選考志願書'!$I$37 -> 0 | CU3: ='R9採用選考志願書'!$Q$39 -> 0 | CV3: ='R9採用選考志願書'!$V$39 -> 0
